BEGIN:VCALENDAR
VERSION:2.0
PRODID:-//The Pembroke Welsh Corgi Club of the Garden State - ECPv6.15.20//NONSGML v1.0//EN
CALSCALE:GREGORIAN
METHOD:PUBLISH
X-WR-CALNAME:The Pembroke Welsh Corgi Club of the Garden State
X-ORIGINAL-URL:https://pwccgs.org
X-WR-CALDESC:Events for The Pembroke Welsh Corgi Club of the Garden State
REFRESH-INTERVAL;VALUE=DURATION:PT1H
X-Robots-Tag:noindex
X-PUBLISHED-TTL:PT1H
BEGIN:VTIMEZONE
TZID:UTC
BEGIN:STANDARD
TZOFFSETFROM:+0000
TZOFFSETTO:+0000
TZNAME:UTC
DTSTART:20190101T000000
END:STANDARD
END:VTIMEZONE
BEGIN:VEVENT
DTSTART;VALUE=DATE:20200912
DTEND;VALUE=DATE:20200913
DTSTAMP:20260425T193849
CREATED:20200731T173233Z
LAST-MODIFIED:20200731T173233Z
UID:923-1599868800-1599955199@pwccgs.org
SUMMARY:2020 Specialty - AM and PM events
DESCRIPTION:PWCCGS 2021 specialty
URL:https://pwccgs.org/event/2020-specialty/
LOCATION:Horseshoe Bend Park\, 178 Horseshoe Road\, Frenchtown\, NJ\, 08825\, United States
CATEGORIES:Specialty
END:VEVENT
BEGIN:VEVENT
DTSTART;TZID=UTC:20200816T120000
DTEND;TZID=UTC:20200816T160000
DTSTAMP:20260425T193849
CREATED:20200305T174433Z
LAST-MODIFIED:20200731T172300Z
UID:730-1597579200-1597593600@pwccgs.org
SUMMARY:Picnic and Annual Meeting of the General Membership
DESCRIPTION:PWCCGS 2021 specialty
URL:https://pwccgs.org/event/picnic-and-annual-meeting-of-the-general-membership-2/
LOCATION:Prallsvillle Mills\, 33 Risler St.\, Stockton\, 08559
CATEGORIES:General Membership Meetings
END:VEVENT
BEGIN:VEVENT
DTSTART;TZID=UTC:20200816T090000
DTEND;TZID=UTC:20200816T120000
DTSTAMP:20260425T193849
CREATED:20200305T174354Z
LAST-MODIFIED:20200731T172537Z
UID:728-1597568400-1597579200@pwccgs.org
SUMMARY:Pembroke Welsh Corgi Match Show
DESCRIPTION:PWCCGS 2021 specialty
URL:https://pwccgs.org/event/pembroke-welsh-corgi-match-show-2/
LOCATION:Prallsvillle Mills\, 33 Risler St.\, Stockton\, 08559
END:VEVENT
END:VCALENDAR