BEGIN:VCALENDAR
VERSION:2.0
PRODID:-//The Pembroke Welsh Corgi Club of the Garden State - ECPv6.15.20//NONSGML v1.0//EN
CALSCALE:GREGORIAN
METHOD:PUBLISH
X-WR-CALNAME:The Pembroke Welsh Corgi Club of the Garden State
X-ORIGINAL-URL:https://pwccgs.org
X-WR-CALDESC:Events for The Pembroke Welsh Corgi Club of the Garden State
REFRESH-INTERVAL;VALUE=DURATION:PT1H
X-Robots-Tag:noindex
X-PUBLISHED-TTL:PT1H
BEGIN:VTIMEZONE
TZID:UTC
BEGIN:STANDARD
TZOFFSETFROM:+0000
TZOFFSETTO:+0000
TZNAME:UTC
DTSTART:20190101T000000
END:STANDARD
END:VTIMEZONE
BEGIN:VEVENT
DTSTART;VALUE=DATE:20240426
DTEND;VALUE=DATE:20240428
DTSTAMP:20260425T205643
CREATED:20231220T165857Z
LAST-MODIFIED:20240408T220532Z
UID:1191-1714089600-1714262399@pwccgs.org
SUMMARY:2024 Garden State Specialties
DESCRIPTION:PEMBROKE WELSH CORGI CLUB OF THE GARDEN STATE \nSPECIALTY SHOWS \n April 26 & 27\, 2024 \n “Corgis & The Jersey Shore” \n \n24th & 25th Independent Specialties \n32nd & 33rd Annual Specialties\nHorseshoe Bend Park \n178 Horseshoe Bend Rd \nFrenchtown\, NJ \nView our Premium List and event info here. \nEntries can be made multiple ways: \n\nMail / fillable form (click here for fillable form & on website gordonshowsec.info) that can be mailed or emailed back\nOnline on www.gordonshowsec.info / online at www.dogalog.dog link. Payment for emailed or gordonshowsec online is through paypal. Payment for dogalog is at time of entry.\n\n**FINAL REMINDER – ENTRIES CLOSE WED\, APRIL 10th** \nFINAL REMINDER that entries and RSVPs for Garden State specialties must be submitted by Wednesday\, April 10th. Please note that the entry system via Gordon Show Secretary website is functioning without issues. We recommend going here to enter: https://www.gordonshowsec.info/\nYou will fill out the form online\, submit\, then receive a paypal invoice to complete the process. Be sure you leave time to receive the invoice and pay BEFORE Wednesday at noon!\n  \nJUDGES \nFriday \nConformation Regular Classes & AKC 4-6 Beginner Puppy  – Larry Adams (Gaylord)\nSaturday \nConformation Regular Classes  – Mari Carroll (Brogan)\nSweepstakes & Veteran Sweepstakes – Tammie Sommerson-Wilcox (Jureaux) \nSCHEDULE  \nFriday \n1 PM  Specialty #1\, starting with 4-6 month competition followed by regular and non-regular classes\n5 PM  Welcome Pizza Party*\nSaturday \n9 AM Puppy and Veteran Sweepstakes followed by Specialty #2 regular and non- regular classes.\n5 PM Italian Feast Banquet*\n*Reservations through RSVP page in our premium list. \nT-SHIRTS \nT-shirts with our 40th Anniversary Specialty Logo are available by pre-order only. Please see the order form in our premium list. \nSILENT & LIVE AUCTION \nOnce again\, we will be holding a silent auction with many fabulous baskets and a live auction on Saturday night\, during our Italian Feast. The live auction includes an original Art Smith drawing\, a mosaic from Yvette Huesler and a hand made item from Holly Russo. \nFor those unable to attend\, sealed bids on the Yvette Huesler mosaic will be accepted by Sally Felix if received by Wednesday\, April 24th.  Contact Sally by email: daydreamcorgis@gmail.com \nThe mosaic is 32” L x 17” H including the frame.  If the mosaic needs to be shipped\, the winning bidder will be responsible for the shipping costs. \n \nSHOW SECRETARY \nKathi Powers c/o Susan Gordon\n4 Seminole Path\, Wildwood\, FL 34785\n(407) 421-1588 / (352)-661-3429\nWebsite: www.gordonshowsec.info Email: gordonshowsec@earthlink.net\nOnline entry through gordonshowsec.info or dogalog.dog
URL:https://pwccgs.org/event/garden-state-specialty-2024/
LOCATION:Horseshoe Bend Park\, 178 Horseshoe Road\, Frenchtown\, NJ\, 08825\, United States
CATEGORIES:Specialty
END:VEVENT
BEGIN:VEVENT
DTSTART;VALUE=DATE:20220514
DTEND;VALUE=DATE:20220515
DTSTAMP:20260425T205643
CREATED:20220514T000000Z
LAST-MODIFIED:20220228T203742Z
UID:1051-1652486400-1652572799@pwccgs.org
SUMMARY:2022 Specialty - Saturday\, May 14
DESCRIPTION:View the Premium List \nSaturday\, May 14\, we will have a 4-6 Month beginner puppy competition\, and regular classes. The judge is Marian Your\, Tri-umph\, from TX. We will also have a banquet or some sort of evening meal after judging. \nShow chair is Kathi Powers\, kapowers66@optimum.net.
URL:https://pwccgs.org/event/2022-specialty-saturday-may-14/
LOCATION:Horseshoe Bend Park\, 178 Horseshoe Road\, Frenchtown\, NJ\, 08825\, United States
CATEGORIES:Specialty
END:VEVENT
BEGIN:VEVENT
DTSTART;VALUE=DATE:20220513
DTEND;VALUE=DATE:20220514
DTSTAMP:20260425T205643
CREATED:20220513T000000Z
LAST-MODIFIED:20220228T203810Z
UID:1048-1652400000-1652486399@pwccgs.org
SUMMARY:2022 Specialty - Friday\, May 13
DESCRIPTION:View the Premium List \nFriday\, May 13 we will have a puppy sweepstakes competition\, altered and fluffy classes\, and a welcome pizza party.  The sweeps judge is Elena Stangel\, Anlin Kennel\, from WA. \nShow chair is Kathi Powers\, kapowers66@optimum.net.
URL:https://pwccgs.org/event/2022-specialty-friday-may-13/
LOCATION:Horseshoe Bend Park\, 178 Horseshoe Road\, Frenchtown\, NJ\, 08825\, United States
CATEGORIES:Specialty
END:VEVENT
BEGIN:VEVENT
DTSTART;VALUE=DATE:20200912
DTEND;VALUE=DATE:20200913
DTSTAMP:20260425T205643
CREATED:20200731T173233Z
LAST-MODIFIED:20200731T173233Z
UID:923-1599868800-1599955199@pwccgs.org
SUMMARY:2020 Specialty - AM and PM events
DESCRIPTION:View the Specialties Premium List \nFor more information and for entries\, visit www.clantyre.net.
URL:https://pwccgs.org/event/2020-specialty/
LOCATION:Horseshoe Bend Park\, 178 Horseshoe Road\, Frenchtown\, NJ\, 08825\, United States
CATEGORIES:Specialty
END:VEVENT
END:VCALENDAR